BEGIN:VCALENDAR
VERSION:2.0
PRODID:-//ChamberMaster//Event Calendar 2.0//EN
METHOD:PUBLISH
X-PUBLISHED-TTL:P3D
REFRESH-INTERVAL:P3D
CALSCALE:GREGORIAN
BEGIN:VEVENT
DTSTART:20220810T180000Z
DTEND:20220810T190000Z
X-MICROSOFT-CDO-ALLDAYEVENT:FALSE
SUMMARY:Ocean STEM Explorers
DESCRIPTION:Each week a new set of STEM projects will be available for kids to explore. This week is the Wonders of Water.
X-ALT-DESC;FMTTYPE=text/html:Each week a new set of STEM projects will be available for kids to explore. This week is the Wonders of Water.
LOCATION:615 Phillips Blvd\, Sauk City\, WI
UID:e.1184.27936
SEQUENCE:3
DTSTAMP:20260421T073457Z
URL:http://members.saukprairie.com/events/details/ocean-stem-explorers-08-10-2022-27936
END:VEVENT

END:VCALENDAR
