BEGIN:VCALENDAR
VERSION:2.0
PRODID:-//ChamberMaster//Event Calendar 2.0//EN
METHOD:PUBLISH
X-PUBLISHED-TTL:P3D
REFRESH-INTERVAL:P3D
CALSCALE:GREGORIAN
BEGIN:VEVENT
DTSTART:20220622T180000Z
DTEND:20220622T190000Z
X-MICROSOFT-CDO-ALLDAYEVENT:FALSE
SUMMARY:Ocean STEM Explorers
DESCRIPTION:Each week a new set of STEM projects will be available for kids to explore. This week is Sink or Float.
X-ALT-DESC;FMTTYPE=text/html:Each week a new set of STEM projects will be available for kids to explore. This week is Sink or Float.
LOCATION:615 Phillips Blvd\, Sauk City\, WI
UID:e.1184.27934
SEQUENCE:3
DTSTAMP:20260421T115714Z
URL:http://members.saukprairie.com/events/details/ocean-stem-explorers-27934
END:VEVENT

END:VCALENDAR
