BEGIN:VCALENDAR
VERSION:2.0
PRODID:-//ChamberMaster//Event Calendar 2.0//EN
METHOD:PUBLISH
X-PUBLISHED-TTL:P3D
REFRESH-INTERVAL:P3D
CALSCALE:GREGORIAN
BEGIN:VEVENT
DTSTART;VALUE=DATE:20231109
DTEND;VALUE=DATE:20231112
TRANSP:TRANSPARENT
X-MICROSOFT-CDO-ALLDAYEVENT:TRUE
SUMMARY:Odana Accents Grand Opening!
DESCRIPTION:Join Odana Accents for their Grand Opening!\n\n\n\nQuality Antique & Home Decor\n\n\n\n10% Discount on items exceeding $20 with cash/check payment!\n\n\n\nBeverages\, Cookies\, & SAVINGS!
X-ALT-DESC;FMTTYPE=text/html:Join Odana Accents for their Grand Opening!<br />\n<br />\nQuality Antique &amp\; Home Decor<br />\n<br />\n10% Discount on items exceeding $20 with cash/check payment!<br />\n<br />\nBeverages\, Cookies\, &amp\; SAVINGS!<br />\n<br />\n&nbsp\;
LOCATION:509 Water Street Prairie du Sac\, WI 53578
UID:e.1184.31209
SEQUENCE:3
DTSTAMP:20260420T053429Z
URL:http://members.saukprairie.com/events/details/odana-accents-grand-opening-31209
END:VEVENT

END:VCALENDAR
