BEGIN:VCALENDAR
VERSION:2.0
PRODID:-//ChamberMaster//Event Calendar 2.0//EN
METHOD:PUBLISH
X-PUBLISHED-TTL:P3D
REFRESH-INTERVAL:P3D
CALSCALE:GREGORIAN
BEGIN:VEVENT
DTSTART:20180625T000000Z
DTEND:20180625T013000Z
X-MICROSOFT-CDO-ALLDAYEVENT:FALSE
SUMMARY:Ohms & Ales: Sunset Yoga at Vintage Brewing Co. Sauk Prairie
DESCRIPTION:Celebrate the beauty of the nature around us as the summer sun sets\, the Wisconsin River rolls just below our feet and a summer breeze sweeps the deck at our second event in the Ohms & Ales Series: Sunset Yoga! This edition will take place on our outdoor beer garden. Enjoy a relaxing social/warm-up period with light refreshments (fruit\, cheese\, crackers) and samples of our favorite summer brews beginning at 7:00pm. A one hour class will begin at 7:30. Also included in your ticket price is a sample of one of our many award-winning craft beers and a pint to enjoy as the sun sets. We hope this Ohms & Ales will be the best yet! #yogainnature #beerandyoga
X-ALT-DESC;FMTTYPE=text/html:<span style="color: rgb(29\, 33\, 41)\; font-family: Helvetica\, Arial\, sans-serif\; font-size: 14px\;">Celebrate the beauty of the nature around us as the summer sun sets\, the Wisconsin River rolls just below our feet and a summer breeze sweeps the deck at our second event in the Ohms &amp\; Ales Series: Sunset Yoga! This edition will take place on our outdoor beer garden. Enjoy a relaxing social/warm-up period with light refreshments (fruit\, cheese\, crackers) and samples of our favorite summer brews beginning at 7:00pm. A one hour class will begin at 7:30. Also included in your ticket price is a sample of one of our many award-winning craft beers and a pint to enjoy as the sun sets. We hope this Ohms &amp\; Ales will be the best yet! #yogainnature #beerandyoga</span>
LOCATION:Vintage Brewing Co. Sauk Prairie 600 Water Street Sauk City\, WI 53583
UID:e.1184.18375
SEQUENCE:3
DTSTAMP:20260424T101142Z
URL:http://members.saukprairie.com/events/details/ohms-ales-sunset-yoga-at-vintage-brewing-co-sauk-prairie-18375
END:VEVENT

END:VCALENDAR
