BEGIN:VCALENDAR
VERSION:2.0
PRODID:-//ChamberMaster//Event Calendar 2.0//EN
METHOD:PUBLISH
X-PUBLISHED-TTL:P3D
REFRESH-INTERVAL:P3D
CALSCALE:GREGORIAN
BEGIN:VEVENT
DTSTART:20181021T200000Z
DTEND:20181021T230000Z
X-MICROSOFT-CDO-ALLDAYEVENT:FALSE
SUMMARY:Ohms and Ales Fall
DESCRIPTION:Vintage Brewing Co. and Prairie Fire Yoga and Wellness partner up again! This edition of ohms & Ales will take place in our outdoor beer garden. A one hour yoga class will be followed by a Beer and Cheese pairing and a pint of your favorite VBC Beer! Relax with crisp brews and Fall river views. Also including a pop-up shop by ZYIA Active with Alicia\n\n\n\nTickets: https://www.eventbrite.com/e/ohms-and-ales-fall-tickets-49452966153?aff=efbeventtix
X-ALT-DESC;FMTTYPE=text/html:<span style="color: rgb(29\, 33\, 41)\; font-family: Helvetica\, Arial\, sans-serif\; font-size: 14px\;">Vintage Brewing Co. and&nbsp\;</span><a href="https://www.facebook.com/prairiefireyoga/" style="color: rgb(54\, 88\, 153)\; cursor: pointer\; text-decoration-line: none\; font-family: Helvetica\, Arial\, sans-serif\; font-size: 14px\;" target="_blank">Prairie Fire Yoga and Wellness</a><span style="color: rgb(29\, 33\, 41)\; font-family: Helvetica\, Arial\, sans-serif\; font-size: 14px\;">&nbsp\;partner up again! This edition of ohms &amp\; Ales will take place in our outdoor beer garden. A one hour yoga class will be followed by a Beer and Cheese pairing and a pint of your favorite VBC Beer! Relax with crisp brews and Fall river views. Also including a pop-up shop by&nbsp\;</span><a href="https://www.facebook.com/amadigan.zyiaactive/" style="color: rgb(54\, 88\, 153)\; cursor: pointer\; text-decoration-line: none\; font-family: Helvetica\, Arial\, sans-serif\; font-size: 14px\;" target="_blank">ZYIA Active with Alicia</a><br />\n<br />\nTickets:&nbsp\;<a href="https://www.eventbrite.com/e/ohms-and-ales-fall-tickets-49452966153?aff=efbeventtix">https://www.eventbrite.com/e/ohms-and-ales-fall-tickets-49452966153?aff=efbeventtix&nbsp\;</a>
LOCATION:Vintage Brewing Co. 600 Water Street Sauk City
UID:e.1184.21357
SEQUENCE:3
DTSTAMP:20260424T033725Z
URL:http://members.saukprairie.com/events/details/ohms-and-ales-fall-21357
END:VEVENT

END:VCALENDAR
