BEGIN:VCALENDAR
VERSION:2.0
PRODID:-//ChamberMaster//Event Calendar 2.0//EN
METHOD:PUBLISH
X-PUBLISHED-TTL:P3D
REFRESH-INTERVAL:P3D
CALSCALE:GREGORIAN
BEGIN:VEVENT
DTSTART:20161202T010000Z
DTEND:20161202T030000Z
X-MICROSOFT-CDO-ALLDAYEVENT:FALSE
SUMMARY:Old Farm Dog at the Woodshed Ale House
DESCRIPTION:Winner of the 2015 Madison Area Music Award for Country/Bluegrass Performer of the Year\, Old Farm Dog explores bluegrass traditions from a unique perspective with music featuring tight harmonies\, blazing instrumentals\, and Americana themes.
X-ALT-DESC;FMTTYPE=text/html:<span style="color: rgb(75\, 79\, 86)\; font-family: helvetica\, arial\, sans-serif\; font-size: 14px\;">Winner of the 2015 Madison Area Music Award for Country/Bluegrass Performer of the Year\, Old Farm Dog explores bluegrass traditions from a unique perspective with music featuring tight harmonies\, blazing instrumentals\, and Americana themes.</span>
LOCATION:Woodshed Ale House 101 Jackson Street Sauk City\, WI 53583
UID:e.1184.9416
SEQUENCE:3
DTSTAMP:20260425T142401Z
URL:http://members.saukprairie.com/events/details/old-farm-dog-at-the-woodshed-ale-house-9416
END:VEVENT

END:VCALENDAR
