BEGIN:VCALENDAR
VERSION:2.0
PRODID:-//ChamberMaster//Event Calendar 2.0//EN
METHOD:PUBLISH
X-PUBLISHED-TTL:P3D
REFRESH-INTERVAL:P3D
CALSCALE:GREGORIAN
BEGIN:VEVENT
DTSTART:20200923T150000Z
DTEND:20200923T153000Z
X-MICROSOFT-CDO-ALLDAYEVENT:FALSE
SUMMARY:Online Storytime
DESCRIPTION:Miss Becky will be reading stories and singing songs in an online storytime aimed at children under 5.\n\nVideos will be posted to the library's Facebook page\, www.facebook.com/saukcitylibrary/videos\, every Wednesday by 10:00 am.\n\nYou don't need a Facebook account to watch.
X-ALT-DESC;FMTTYPE=text/html:<p><span style="font-family:inherit\; font-size:inherit">Miss Becky will be reading stories and singing songs in an online storytime aimed at children under 5.</span></p>\n\n<p><span style="font-family:inherit\; font-size:inherit">Videos will be posted to the library&rsquo\;s Facebook page\,&nbsp\;</span><a href="https://www.facebook.com/saukcitylibrary" style="margin: 0px\; padding: 0px\; border: 0px\; font-style: inherit\; font-variant: inherit\; font-weight: bold\; font-stretch: inherit\; font-size: inherit\; line-height: inherit\; font-family: inherit\; vertical-align: baseline\; color: rgb(153\, 51\, 0)\; outline: 0px\; text-decoration-line: none\;"><span style="font-family:inherit\; font-size:inherit">www.facebook.com/saukcitylibrary/videos\,</span></a>&nbsp\;every Wednesday by 10:00 am.</p>\n\n<p>You don&rsquo\;t need a Facebook account to watch.</p>\n
LOCATION:
UID:e.1184.26100
SEQUENCE:3
DTSTAMP:20260422T165519Z
URL:http://members.saukprairie.com/events/details/online-storytime-09-23-2020-26100
END:VEVENT

END:VCALENDAR
