BEGIN:VCALENDAR
VERSION:2.0
PRODID:-//ChamberMaster//Event Calendar 2.0//EN
METHOD:PUBLISH
X-PUBLISHED-TTL:P3D
REFRESH-INTERVAL:P3D
CALSCALE:GREGORIAN
BEGIN:VEVENT
DTSTART:20170714T180000Z
DTEND:20170714T200000Z
X-MICROSOFT-CDO-ALLDAYEVENT:FALSE
SUMMARY:Art Studio
DESCRIPTION:Each of these drop-in sessions will feature different projects for children to get creative.\n\n\n\nIn July\, kids can play with art bots\, make custom buttons with our button maker\, and more!\n\n\n\nIn August\, children will be able to paint a beach scene on a canvas and manipulate yarn in different ways.
X-ALT-DESC;FMTTYPE=text/html:<p><span style="background-color:transparent\; color:rgb(0\, 0\, 0)\; font-family:arial\; font-size:11pt">Each of these drop-in sessions will feature different projects for children to get creative.<br />\n<br />\nIn July\, kids can play with art bots\, make custom buttons with our button maker\, and more!<br />\n<br />\nIn August\, children will be able to paint a beach scene on a canvas and manipulate yarn in different ways.</span></p>\n\n<div>&nbsp\;</div>\n
LOCATION:Sauk City Public Library 515 Water St. Sauk City\, WI
UID:e.1184.11755
SEQUENCE:3
DTSTAMP:20260425T031203Z
URL:http://members.saukprairie.com/events/details/open-art-studio-07-14-2017-11755
END:VEVENT

END:VCALENDAR
