BEGIN:VCALENDAR
VERSION:2.0
PRODID:-//ChamberMaster//Event Calendar 2.0//EN
METHOD:PUBLISH
X-PUBLISHED-TTL:P3D
REFRESH-INTERVAL:P3D
CALSCALE:GREGORIAN
BEGIN:VEVENT
DTSTART;VALUE=DATE:20220821
DTEND;VALUE=DATE:20220822
TRANSP:TRANSPARENT
X-MICROSOFT-CDO-ALLDAYEVENT:TRUE
SUMMARY:Open House at Harrisburg Troy Historical School
DESCRIPTION:Come visit and tour our one room school house. You will be surprised how beautiful and real looking it is once you enter.  We also have a Farm Museum with antique farm equipment and a Farm Kitchen from long ago. You will be pleasantly surprised when you see it all.
X-ALT-DESC;FMTTYPE=text/html:Come visit and tour our one room school house. You will be surprised how beautiful and real looking it is once you enter. &nbsp\;We also have a Farm Museum with antique farm equipment and a Farm Kitchen from long ago. You will be pleasantly surprised when you see it all.&nbsp\;
LOCATION:Sauk County\, Town of Troy\, E7646 Co. Hwy. B\, Spring Green\, WI 53588
UID:e.1184.28659
SEQUENCE:3
DTSTAMP:20260421T074031Z
URL:http://members.saukprairie.com/events/details/open-house-at-harrisburg-troy-historical-school-28659
END:VEVENT

END:VCALENDAR
