BEGIN:VCALENDAR
VERSION:2.0
PRODID:-//ChamberMaster//Event Calendar 2.0//EN
METHOD:PUBLISH
X-PUBLISHED-TTL:P3D
REFRESH-INTERVAL:P3D
CALSCALE:GREGORIAN
BEGIN:VEVENT
DTSTART:20160504T200000Z
DTEND:20160504T220000Z
X-MICROSOFT-CDO-ALLDAYEVENT:FALSE
SUMMARY:Open House for Mary Zenker
DESCRIPTION:After more than 23 years at the Sauk City Library\, Mary Zenker is moving on to new endeavors! She will be greatly missed! Express your appreciation for her service and wish her well during an open house at the library.
X-ALT-DESC;FMTTYPE=text/html:After more than 23 years at the Sauk City Library\, Mary Zenker is moving on to new endeavors! She will be greatly missed! Express your appreciation for her service and wish her well during an open house at the library.
LOCATION:Sauk City Library 515 Water St Sauk City\, WI
UID:e.1184.8457
SEQUENCE:3
DTSTAMP:20260426T020309Z
URL:http://members.saukprairie.com/events/details/open-house-for-mary-zenker-05-04-2016-8457
END:VEVENT

END:VCALENDAR
