BEGIN:VCALENDAR
VERSION:2.0
PRODID:-//ChamberMaster//Event Calendar 2.0//EN
METHOD:PUBLISH
X-PUBLISHED-TTL:P3D
REFRESH-INTERVAL:P3D
CALSCALE:GREGORIAN
BEGIN:VEVENT
DTSTART:20170710T230000Z
DTEND:20170711T000000Z
X-MICROSOFT-CDO-ALLDAYEVENT:FALSE
SUMMARY:Open House: Honoring Library Trustee
DESCRIPTION:The library will be hosting an open house to honor our long-serving trustees of the Sauk City Public Library.\n\nGuests of Honor:\n\n\n	Phyllis Kirchstein\n	Bonnie McGuine\n	Lois Pieper\n	Julie Rogers\n	James Staff\n	Arlene Wipperfurth\n\n\nThis reception is to celebrating 106 combined years of commitment!
X-ALT-DESC;FMTTYPE=text/html:<p>The library will be hosting an open house to honor our&nbsp\;long-serving trustees of the Sauk City Public Library.</p>\n\n<p>Guests of Honor:</p>\n\n<ul>\n	<li>Phyllis Kirchstein</li>\n	<li>Bonnie McGuine</li>\n	<li>Lois Pieper</li>\n	<li>Julie Rogers</li>\n	<li>James Staff</li>\n	<li>Arlene Wipperfurth</li>\n</ul>\n\n<p>This reception is to celebrating 106 combined years of commitment!</p>\n
LOCATION:515 Water Street Sauk City\, WI 53583 (608) 643-8346
UID:e.1184.11829
SEQUENCE:3
DTSTAMP:20260425T032643Z
URL:http://members.saukprairie.com/events/details/open-house-honoring-library-trustee-11829
END:VEVENT

END:VCALENDAR
