BEGIN:VCALENDAR
VERSION:2.0
PRODID:-//ChamberMaster//Event Calendar 2.0//EN
METHOD:PUBLISH
X-PUBLISHED-TTL:P3D
REFRESH-INTERVAL:P3D
CALSCALE:GREGORIAN
BEGIN:VEVENT
DTSTART:20170710T230000Z
DTEND:20170711T000000Z
X-MICROSOFT-CDO-ALLDAYEVENT:FALSE
SUMMARY:Open House: Honoring Library Trustees
DESCRIPTION:The library will be hosting a public open house to honor our long-serving trustees of the Sauk City Public Library. \n\n\n\nThis reception is to celebrate 106 combined years of commitment! Refreshments will be served. \n\n\n\nGuests of honor include:\n\n- Phyllis Kirchstein\n\n- Bonnie McGuine\n\n- Lois Pieper\n\n- Julie Rogers\n\n- James Staff\n\n- Arlene Wipperfurth
X-ALT-DESC;FMTTYPE=text/html:<span style="color:rgb(75\, 79\, 86)\; font-family:helvetica\,arial\,sans-serif\; font-size:14px">The library will be hosting a public open house to honor our long-serving trustees of the Sauk City Public Library.&nbsp\;</span><br />\n<br />\n<span style="color:rgb(75\, 79\, 86)\; font-family:helvetica\,arial\,sans-serif\; font-size:14px">This reception is to celebrate 106 combined years of commitment! Refreshments will be served.&nbsp\;</span><br />\n<br />\n<span style="color:rgb(75\, 79\, 86)\; font-family:helvetica\,arial\,sans-serif\; font-size:14px">Guests of honor include:</span><br />\n<span style="color:rgb(75\, 79\, 86)\; font-family:helvetica\,arial\,sans-serif\; font-size:14px">- Phyllis Kirchstein</span><br />\n<span style="color:rgb(75\, 79\, 86)\; font-family:helvetica\,arial\,sans-serif\; font-size:14px">- Bonnie McGuine</span><br />\n<span style="color:rgb(75\, 79\, 86)\; font-family:helvetica\,arial\,sans-serif\; font-size:14px">- Lois Pieper</span><br />\n<span style="color:rgb(75\, 79\, 86)\; font-family:helvetica\,arial\,sans-serif\; font-size:14px">- Julie Rogers</span><br />\n<span style="color:rgb(75\, 79\, 86)\; font-family:helvetica\,arial\,sans-serif\; font-size:14px">- James Staff</span><br />\n<span style="color:rgb(75\, 79\, 86)\; font-family:helvetica\,arial\,sans-serif\; font-size:14px">- Arlene Wipperfurth</span>
LOCATION:515 Water Street Sauk City\, WI 53583 (608) 643-8346
UID:e.1184.11828
SEQUENCE:3
DTSTAMP:20260425T032643Z
URL:http://members.saukprairie.com/events/details/open-house-honoring-library-trustees-11828
END:VEVENT

END:VCALENDAR
