BEGIN:VCALENDAR
VERSION:2.0
PRODID:-//ChamberMaster//Event Calendar 2.0//EN
METHOD:PUBLISH
X-PUBLISHED-TTL:P3D
REFRESH-INTERVAL:P3D
CALSCALE:GREGORIAN
BEGIN:VEVENT
DTSTART:20170810T203000Z
DTEND:20170810T233000Z
X-MICROSOFT-CDO-ALLDAYEVENT:FALSE
SUMMARY:Open House-Madison College Reedsburg Campus
DESCRIPTION:Open House- join us for a closer look at our Reedsburg campus and see what we have to offer you.  This event is open to the community.  Take a tour\, meet staff\, enjoy light refreshments and apply for free.  No need to register\, drop by at your convience.
X-ALT-DESC;FMTTYPE=text/html:Open House- join us for a closer look at our Reedsburg campus and see what we have to offer you. &nbsp\;This event is open to the community. &nbsp\;Take a tour\, meet staff\, enjoy light refreshments and apply for free. &nbsp\;No need to register\, drop by at your convience.
LOCATION:Madison College Reedsburg Campus 300 Alexander Ave Reedsburg\, WI 53959 608-524-7800
UID:e.1184.11844
SEQUENCE:3
DTSTAMP:20260425T014936Z
URL:http://members.saukprairie.com/events/details/open-house-madison-college-reedsburg-campus-11844
END:VEVENT

END:VCALENDAR
