BEGIN:VCALENDAR
VERSION:2.0
PRODID:-//ChamberMaster//Event Calendar 2.0//EN
METHOD:PUBLISH
X-PUBLISHED-TTL:P3D
REFRESH-INTERVAL:P3D
CALSCALE:GREGORIAN
BEGIN:VEVENT
DTSTART:20230524T160000Z
DTEND:20230524T230000Z
X-MICROSOFT-CDO-ALLDAYEVENT:FALSE
SUMMARY:Open Interview Day
DESCRIPTION:BrightStar Care of Baraboo is looking for a few MORE great caregivers\, CNAs\, and an RN Case Manager/full or part time.\n\n\n\nWe are holding open interviews - just walk in! We will have our Talent Team available to interview and make offers on the spot!\n\n\n\nAverage pay is over $20 per hour for caregivers & CNAs
X-ALT-DESC;FMTTYPE=text/html:<big><span style="font-family:arial\,helvetica\,sans-serif">BrightStar Care of Baraboo is looking for a few MORE great caregivers\, CNAs\, and an RN Case Manager/full or part time.<br />\n<br />\nWe are holding open interviews - just walk in! We will have our Talent Team available to interview and make offers on the spot!<br />\n<br />\n<span style="font-size:18px">Average pay is over $20 per hour for caregivers &amp\; CNAs</span></span></big>
LOCATION:
UID:e.1184.30761
SEQUENCE:3
DTSTAMP:20260420T142619Z
URL:http://members.saukprairie.com/events/details/open-interview-day-30761
END:VEVENT

END:VCALENDAR
