BEGIN:VCALENDAR
VERSION:2.0
PRODID:-//ChamberMaster//Event Calendar 2.0//EN
METHOD:PUBLISH
X-PUBLISHED-TTL:P3D
REFRESH-INTERVAL:P3D
CALSCALE:GREGORIAN
BEGIN:VEVENT
DTSTART;VALUE=DATE:20171204
DTEND;VALUE=DATE:20171218
TRANSP:TRANSPARENT
X-MICROSOFT-CDO-ALLDAYEVENT:TRUE
SUMMARY:Open Interviews for VINTAGE BREWING CO. @ Woodshed Ale House
DESCRIPTION:Come join our fun and experienced team as we strive to serve up the best food\, craft beer and accomidations in the Sauk Prairie area. Learn about the industry\, and enjoy our relaxed company culture! Just stop in at the Woodshed Ale house (101 Jackson Street) between the hours of 9:00am and 7:00pm December 4th through the 17th. We will be interviewing for the following positions: bartenders\, servers\, food runners\, bussers\, hosts\, line cooks\, prep cooks\, and dishwashers. We look forward to meeting everyone!! Apply ahead of time online or in person.\n\nhttps://vintagebrewingcompany.com/saukprairie/employment/
X-ALT-DESC;FMTTYPE=text/html:Come join our fun and experienced team as we strive to serve up the best food\, craft beer and accomidations in the Sauk Prairie area. Learn about the industry\, and enjoy our relaxed company culture! Just stop in at the Woodshed Ale house (101 Jackson Street) between the hours of 9:00am and 7:00pm December 4th through the 17th.&nbsp\;<span style="background-color:rgb(246\, 247\, 249)\; color:rgb(29\, 33\, 41)\; font-family:helvetica\,arial\,sans-serif\; font-size:12px">We will be interviewing for the following positions: bartenders\, servers\, food runners\, bussers\, hosts\, line cooks\, prep cooks\, and dishwashers. We look forward to meeting everyone!!</span> Apply ahead of time online or in person.<br />\n<a href="https://vintagebrewingcompany.com/saukprairie/employment/">https://vintagebrewingcompany.com/saukprairie/employment/</a>
LOCATION:Woodshed Ale House (101 Jackson Street)
UID:e.1184.14527
SEQUENCE:3
DTSTAMP:20260424T193154Z
URL:http://members.saukprairie.com/events/details/open-interviews-for-vintage-brewing-co-woodshed-ale-house-14527
END:VEVENT

END:VCALENDAR
