BEGIN:VCALENDAR
VERSION:2.0
PRODID:-//ChamberMaster//Event Calendar 2.0//EN
METHOD:PUBLISH
X-PUBLISHED-TTL:P3D
REFRESH-INTERVAL:P3D
CALSCALE:GREGORIAN
BEGIN:VEVENT
DTSTART:20200715T150000Z
DTEND:20200715T160000Z
X-MICROSOFT-CDO-ALLDAYEVENT:FALSE
SUMMARY:Open Play for Kids
DESCRIPTION:Children 5 and under along with their caregivers are welcome to come to the library for an open play time in the lower level. Meet up with friends old and new. Various toys and space for unstructured play provided. Think of it as a playdate where no one has to clean their house!
X-ALT-DESC;FMTTYPE=text/html:<span style="color:rgb(68\, 68\, 68)\; font-family:helvetica neue\,arial\,helvetica\,nimbus sans l\,sans-serif\; font-size:12.8px">Children 5 and under along with their caregivers are welcome to come to the library for an open play time in the lower level. Meet up with friends old and new. Various toys and space for unstructured play provided. Think of it as a playdate where no one has to clean their house!</span>
LOCATION:Sauk City Public Library 515 Water Street Sauk City\, WI 53583 (608) 643-8346
UID:e.1184.24345
SEQUENCE:3
DTSTAMP:20260422T224828Z
URL:http://members.saukprairie.com/events/details/open-play-for-kids-07-15-2020-24345
END:VEVENT

END:VCALENDAR
