BEGIN:VCALENDAR
VERSION:2.0
PRODID:-//ChamberMaster//Event Calendar 2.0//EN
METHOD:PUBLISH
X-PUBLISHED-TTL:P3D
REFRESH-INTERVAL:P3D
CALSCALE:GREGORIAN
BEGIN:VEVENT
DTSTART;VALUE=DATE:20230614
DTEND;VALUE=DATE:20230615
TRANSP:TRANSPARENT
X-MICROSOFT-CDO-ALLDAYEVENT:TRUE
SUMMARY:Open the Door to your Future Home!
DESCRIPTION:Join Izabela Korwel with the Korwels and Amanda Suchla and Crystal Lautenbach with the Bank of Prairie du Sac for a Home Buyers Seminar.\n\n\n\nTopics to be Discussed:\n\n	What you'll need to do to prepare to buy a home\n	Getting your mortgage and closing your loan\n	What to expect after you close\n	How to make an offer\n	What you can afford\n	What to look for\n\nPizza for Dinner | Door Prizes & More!
X-ALT-DESC;FMTTYPE=text/html:Join Izabela Korwel with the Korwels and Amanda Suchla and Crystal Lautenbach with the Bank of Prairie du Sac for a Home Buyers Seminar.<br />\n<br />\nTopics to be Discussed:\n<ul>\n	<li>What you&#39\;ll need to do to prepare to buy a home</li>\n	<li>Getting your mortgage and closing your loan</li>\n	<li>What to expect after you close</li>\n	<li>How to make an offer</li>\n	<li>What you can afford</li>\n	<li>What to look for</li>\n</ul>\nPizza for Dinner | Door Prizes &amp\; More!
LOCATION:Sauk Prairie Riverway Welcome Center 109 Phillips Blvd. Sauk City\, WI 53583
UID:e.1184.30870
SEQUENCE:3
DTSTAMP:20260420T115921Z
URL:http://members.saukprairie.com/events/details/open-the-door-to-your-future-home-30870
END:VEVENT

END:VCALENDAR
