BEGIN:VCALENDAR
VERSION:2.0
PRODID:-//ChamberMaster//Event Calendar 2.0//EN
METHOD:PUBLISH
X-PUBLISHED-TTL:P3D
REFRESH-INTERVAL:P3D
CALSCALE:GREGORIAN
BEGIN:VEVENT
DTSTART:20241129T163000Z
DTEND:20241129T183000Z
X-MICROSOFT-CDO-ALLDAYEVENT:FALSE
SUMMARY:Opt Outside Hike at DL
DESCRIPTION:The Friends of Devil's Lake State Park are sponsoring an event to get folks to experience the park in a different way! Join us Nov 29th for an Opt Outside Hike. Meet at the Rock Elm Shelter on the North Shore of DL. Guided hike up the East Bluff Get out and work off the turkey! Snacks following the hike
X-ALT-DESC;FMTTYPE=text/html:The Friends of Devil&#39\;s Lake State Park are sponsoring an event to get folks to experience the park in a different way! Join us Nov 29th for an Opt Outside Hike. Meet at the Rock Elm Shelter on the North Shore of DL. Guided hike up the East Bluff Get out and work off the turkey! Snacks following the hike
LOCATION:Devil's Lake State Park North Shore Meet at Rock Elm Shelter
UID:e.1184.34530
SEQUENCE:3
DTSTAMP:20260419T130908Z
URL:http://members.saukprairie.com/events/details/opt-outside-hike-at-dl-34530
END:VEVENT

END:VCALENDAR
