BEGIN:VCALENDAR
VERSION:2.0
PRODID:-//ChamberMaster//Event Calendar 2.0//EN
METHOD:PUBLISH
X-PUBLISHED-TTL:P3D
REFRESH-INTERVAL:P3D
CALSCALE:GREGORIAN
BEGIN:VEVENT
DTSTART:20220819T000000Z
DTEND:20220819T020000Z
X-MICROSOFT-CDO-ALLDAYEVENT:FALSE
SUMMARY:Orlando Pena at Jaybird Cafe & Spirits
DESCRIPTION:August 18 - Orlando Pena - is a Singer/Songwriter from Milwaukee\, Wisconsin.\n\nWebsite: https://www.orlandopena.com/
X-ALT-DESC;FMTTYPE=text/html:<div class="kvgmc6g5 cxmmr5t8 oygrvhab hcukyx3x c1et5uql" style="overflow-wrap: break-word\; margin: 0px\; font-family: &quot\;Segoe UI Historic&quot\;\, &quot\;Segoe UI&quot\;\, Helvetica\, Arial\, sans-serif\; color: rgb(5\, 5\, 5)\; font-size: 15px\;">August 18 - Orlando Pena - is a Singer/Songwriter from Milwaukee\, Wisconsin.</div>\n\n<div class="cxmmr5t8 oygrvhab hcukyx3x c1et5uql o9v6fnle" style="overflow-wrap: break-word\; margin: 0.5em 0px 0px\; font-family: &quot\;Segoe UI Historic&quot\;\, &quot\;Segoe UI&quot\;\, Helvetica\, Arial\, sans-serif\; color: rgb(5\, 5\, 5)\; font-size: 15px\;">Website:&nbsp\;<a class="oajrlxb2 g5ia77u1 qu0x051f esr5mh6w e9989ue4 r7d6kgcz rq0escxv nhd2j8a9 nc684nl6 p7hjln8o kvgmc6g5 cxmmr5t8 oygrvhab hcukyx3x jb3vyjys rz4wbd8a qt6c0cv9 a8nywdso i1ao9s8h esuyzwwr f1sip0of lzcic4wl gpro0wi8 py34i1dx" href="https://www.orlandopena.com/?fbclid=IwAR19FdBFszdulGfVy2jRuYmYhIJwsEYb5J99gDQoGLvuUnDrdtuTrs5h1Z4" rel="nofollow noopener" role="link" style="color: var(--blue-link)\; cursor: pointer\; text-decoration-line: none\; outline: none\; list-style: none\; border-width: 0px\; border-style: initial\; border-color: initial\; padding: 0px\; margin: 0px\; touch-action: manipulation\; background-color: transparent\; text-align: inherit\; display: inline\; -webkit-tap-highlight-color: transparent\; box-sizing: border-box\; font-family: inherit\;" tabindex="0" target="_blank">https://www.orlandopena.com/</a></div>\n
LOCATION:Jaybird Cafe & Spirits 550 Water Street Prairie du Sac\, WI 53578
UID:e.1184.28667
SEQUENCE:3
DTSTAMP:20260421T073637Z
URL:http://members.saukprairie.com/events/details/orlando-pena-at-jaybird-cafe-spirits-28667
END:VEVENT

END:VCALENDAR
