BEGIN:VCALENDAR
VERSION:2.0
PRODID:-//ChamberMaster//Event Calendar 2.0//EN
METHOD:PUBLISH
X-PUBLISHED-TTL:P3D
REFRESH-INTERVAL:P3D
CALSCALE:GREGORIAN
BEGIN:VEVENT
DTSTART;VALUE=DATE:20220420
DTEND;VALUE=DATE:20220424
TRANSP:TRANSPARENT
X-MICROSOFT-CDO-ALLDAYEVENT:TRUE
SUMMARY:Outdoor Activities Swap
DESCRIPTION:Looking to give away gently used items after cleaning out your garage?\n\nLooking for fun\, new things to do outside as the days get warmer?\n\nBrought to you by the Sauk Prairie High School National Honor Society\n\nSchedule:\n\nWednesday (4/20) - 3-7pm - Drop-off Only\n\nThursday (4/21) - 3-7pm - Drop-off & Shop\n\nFriday (4/22) - 3-7pm - Drop-off & Shop\n\nSaturday (4/23) - 8am-Noon - Shop Only\n\nAt the 6:8 Building - 821 Industry Road\, Sauk City\n\nWHAT TO DONATE AND SHOP FOR: *GENTLY USED*\n\nSports equipment\n\nhockey\, baseball\, tennis\, golf\, etc.\n\nYard games\n\nbocce\, horseshoes\, bags\, etc.\n\nFishing and camping gear\n\nWorking bikes and trikes\n\nScooters\n\nRoller skates\n\nRoller blades\n\nIce skates\n\nBalls\n\nSquirt guns\n\nSand toys\n\nWater and pool toys\n\nMini play structures\n\nAny other outdoor items!\n\nContact: Email: isaachomar1@gmail.com - Call/Text- (608) 561-8468
X-ALT-DESC;FMTTYPE=text/html:<div class="kvgmc6g5 cxmmr5t8 oygrvhab hcukyx3x c1et5uql" style="overflow-wrap: break-word\; margin: 0px\; font-family: &quot\;Segoe UI Historic&quot\;\, &quot\;Segoe UI&quot\;\, Helvetica\, Arial\, sans-serif\; color: rgb(5\, 5\, 5)\; font-size: 15px\;">Looking to give away gently used items after cleaning out your garage?<br />\nLooking for fun\, new things to do outside as the days get warmer?<br />\nBrought to you by the Sauk Prairie High School National Honor Society</div>\n\n<div class="cxmmr5t8 oygrvhab hcukyx3x c1et5uql o9v6fnle" style="overflow-wrap: break-word\; margin: 0.5em 0px 0px\; font-family: &quot\;Segoe UI Historic&quot\;\, &quot\;Segoe UI&quot\;\, Helvetica\, Arial\, sans-serif\; color: rgb(5\, 5\, 5)\; font-size: 15px\;">Schedule:<br />\nWednesday (4/20) - 3-7pm - Drop-off Only<br />\nThursday (4/21) - 3-7pm - Drop-off &amp\; Shop<br />\nFriday (4/22) - 3-7pm - Drop-off &amp\; Shop<br />\nSaturday (4/23) - 8am-Noon - Shop Only</div>\n\n<div class="cxmmr5t8 oygrvhab hcukyx3x c1et5uql o9v6fnle" style="overflow-wrap: break-word\; margin: 0.5em 0px 0px\; font-family: &quot\;Segoe UI Historic&quot\;\, &quot\;Segoe UI&quot\;\, Helvetica\, Arial\, sans-serif\; color: rgb(5\, 5\, 5)\; font-size: 15px\;">At the 6:8 Building - 821 Industry Road\, Sauk City</div>\n\n<div class="cxmmr5t8 oygrvhab hcukyx3x c1et5uql o9v6fnle" style="overflow-wrap: break-word\; margin: 0.5em 0px 0px\; font-family: &quot\;Segoe UI Historic&quot\;\, &quot\;Segoe UI&quot\;\, Helvetica\, Arial\, sans-serif\; color: rgb(5\, 5\, 5)\; font-size: 15px\;">WHAT TO DONATE AND SHOP FOR: *GENTLY USED*<br />\nSports equipment<br />\nhockey\, baseball\, tennis\, golf\, etc.<br />\nYard games<br />\nbocce\, horseshoes\, bags\, etc.<br />\nFishing and camping gear<br />\nWorking bikes and trikes<br />\nScooters<br />\nRoller skates<br />\nRoller blades<br />\nIce skates<br />\nBalls<br />\nSquirt guns<br />\nSand toys<br />\nWater and pool toys<br />\nMini play structures<br />\nAny other outdoor items!</div>\n\n<div class="cxmmr5t8 oygrvhab hcukyx3x c1et5uql o9v6fnle" style="overflow-wrap: break-word\; margin: 0.5em 0px 0px\; font-family: &quot\;Segoe UI Historic&quot\;\, &quot\;Segoe UI&quot\;\, Helvetica\, Arial\, sans-serif\; color: rgb(5\, 5\, 5)\; font-size: 15px\;">Contact: Email: <a href="mailto:isaachomar1@gmail.com?subject=Outdoor%20Activities%20Swap">isaachomar1@gmail.com</a> - Call/Text- (608) 561-8468</div>\n
LOCATION:6:8 Inc. 821 Industry Road Sauk City
UID:e.1184.27199
SEQUENCE:3
DTSTAMP:20260421T145104Z
URL:http://members.saukprairie.com/events/details/outdoor-activities-swap-27199
END:VEVENT

END:VCALENDAR
