BEGIN:VCALENDAR
VERSION:2.0
PRODID:-//ChamberMaster//Event Calendar 2.0//EN
METHOD:PUBLISH
X-PUBLISHED-TTL:P3D
REFRESH-INTERVAL:P3D
CALSCALE:GREGORIAN
BEGIN:VEVENT
DTSTART:20200913T150000Z
DTEND:20200913T200000Z
X-MICROSOFT-CDO-ALLDAYEVENT:FALSE
SUMMARY:Outdoor Fall Craft Market
DESCRIPTION:Fall is in the air! Come stroll through beautiful Meyer Oak Grove Park in Sauk City on Sunday\, September 13th from 10 am to 3 pm and browse and shop from our amazing variety of crafters and vendors. Vendors will be spaced throughout the park along the sidewalks to ensure maximum distancing for a safe and fun shopping experience. Plus\, take a moment to visit our guide dogs in training and enter our raffle\, with 100% to benefit OccuPaws Guide Dogs. There will also be volunteers to answer questions and future guide dogs as well. Learn more at : https://www.facebook.com/events/1373200122876052/
X-ALT-DESC;FMTTYPE=text/html:Fall is in the air! Come stroll through beautiful Meyer Oak Grove Park in Sauk City on Sunday\, September 13th from 10 am to 3 pm and browse and shop from our amazing variety of crafters and vendors. Vendors will be spaced throughout the park along the sidewalks to ensure maximum distancing for a safe and fun shopping experience. Plus\, take a moment to visit our guide dogs in training and enter our raffle\, with 100% to benefit OccuPaws Guide Dogs. There will also be volunteers to answer questions and future guide dogs as well. Learn more at : https://www.facebook.com/events/1373200122876052/
LOCATION:Meyer Oak Grove Park
UID:e.1184.26108
SEQUENCE:3
DTSTAMP:20260422T182549Z
URL:http://members.saukprairie.com/events/details/outdoor-fall-craft-market-26108
END:VEVENT

END:VCALENDAR
