BEGIN:VCALENDAR
VERSION:2.0
PRODID:-//ChamberMaster//Event Calendar 2.0//EN
METHOD:PUBLISH
X-PUBLISHED-TTL:P3D
REFRESH-INTERVAL:P3D
CALSCALE:GREGORIAN
BEGIN:VEVENT
DTSTART:20220723T140000Z
DTEND:20220723T150000Z
X-MICROSOFT-CDO-ALLDAYEVENT:FALSE
SUMMARY:Outdoor Yoga at Durward's Glen
DESCRIPTION:Join Durward's Glen for Outdoor Yoga brought to you by Bee Alive Yoga!
X-ALT-DESC;FMTTYPE=text/html:Join Durward&#39\;s Glen for Outdoor Yoga brought to you by Bee Alive Yoga!
LOCATION:W11876 McLeisch Rd\, Baraboo\, WI
UID:e.1184.28013
SEQUENCE:3
DTSTAMP:20260421T104111Z
URL:http://members.saukprairie.com/events/details/outdoor-yoga-at-durward-s-glen-28013
END:VEVENT

END:VCALENDAR
