BEGIN:VCALENDAR
VERSION:2.0
PRODID:-//ChamberMaster//Event Calendar 2.0//EN
METHOD:PUBLISH
X-PUBLISHED-TTL:P3D
REFRESH-INTERVAL:P3D
CALSCALE:GREGORIAN
BEGIN:VEVENT
DTSTART:20190619T180000Z
DTEND:20190619T210000Z
X-MICROSOFT-CDO-ALLDAYEVENT:FALSE
SUMMARY:Paint & Sip
DESCRIPTION:Set free the artist in you by creating your own original painting!\n\n\n\nCome experience a fun afternoon out with your friends\, eating amazing food\, drinking fun cocktails\, and getting your art on with a local Art Educator.\n\n\n\nNo experience required! \n\nOur engaging instructor will walk you through the steps of creating this fun painting for a great time at Vintage Brewing Co. - Sauk. We provide everything you need to get those creative juices flowing and have you leaving feeling proud of what you accomplished! \n\nCome paint with us!\n\n\n\nTicket Price: $35 - 1 ticket per person.
X-ALT-DESC;FMTTYPE=text/html:<span style="color: rgb(29\, 33\, 41)\; font-family: Helvetica\, Arial\, sans-serif\; font-size: 14px\; white-space: pre-wrap\;">Set free the artist in you by creating your own original painting!</span><br style="color: rgb(29\, 33\, 41)\; font-family: Helvetica\, Arial\, sans-serif\; font-size: 14px\; white-space: pre-wrap\;" />\n<br style="color: rgb(29\, 33\, 41)\; font-family: Helvetica\, Arial\, sans-serif\; font-size: 14px\; white-space: pre-wrap\;" />\n<span style="color: rgb(29\, 33\, 41)\; font-family: Helvetica\, Arial\, sans-serif\; font-size: 14px\; white-space: pre-wrap\;">Come experience a fun afternoon out with your friends\, eating amazing food\, drinking fun cocktails\, and getting your art on with a local Art Educator.</span><br style="color: rgb(29\, 33\, 41)\; font-family: Helvetica\, Arial\, sans-serif\; font-size: 14px\; white-space: pre-wrap\;" />\n<br style="color: rgb(29\, 33\, 41)\; font-family: Helvetica\, Arial\, sans-serif\; font-size: 14px\; white-space: pre-wrap\;" />\n<span style="color: rgb(29\, 33\, 41)\; font-family: Helvetica\, Arial\, sans-serif\; font-size: 14px\; white-space: pre-wrap\;">No experience required! </span><br style="color: rgb(29\, 33\, 41)\; font-family: Helvetica\, Arial\, sans-serif\; font-size: 14px\; white-space: pre-wrap\;" />\n<span style="color: rgb(29\, 33\, 41)\; font-family: Helvetica\, Arial\, sans-serif\; font-size: 14px\; white-space: pre-wrap\;">Our engaging instructor will walk you through the steps of creating this fun painting for a great time at Vintage Brewing Co. - Sauk. We provide everything you need to get those creative juices flowing and have you leaving feeling proud of what you accomplished! </span><br style="color: rgb(29\, 33\, 41)\; font-family: Helvetica\, Arial\, sans-serif\; font-size: 14px\; white-space: pre-wrap\;" />\n<span style="color: rgb(29\, 33\, 41)\; font-family: Helvetica\, Arial\, sans-serif\; font-size: 14px\; white-space: pre-wrap\;">Come paint with us!</span><br style="color: rgb(29\, 33\, 41)\; font-family: Helvetica\, Arial\, sans-serif\; font-size: 14px\; white-space: pre-wrap\;" />\n<br style="color: rgb(29\, 33\, 41)\; font-family: Helvetica\, Arial\, sans-serif\; font-size: 14px\; white-space: pre-wrap\;" />\n<span style="color: rgb(29\, 33\, 41)\; font-family: Helvetica\, Arial\, sans-serif\; font-size: 14px\; white-space: pre-wrap\;">Ticket Price: $35 - 1 ticket per person.</span>
LOCATION:Vintage Brewing Co. 600 Water St. Sauk City\, WI 53583
UID:e.1184.22558
SEQUENCE:3
DTSTAMP:20260423T153236Z
URL:http://members.saukprairie.com/events/details/paint-sip-22558
END:VEVENT

END:VCALENDAR
