BEGIN:VCALENDAR
VERSION:2.0
PRODID:-//ChamberMaster//Event Calendar 2.0//EN
METHOD:PUBLISH
X-PUBLISHED-TTL:P3D
REFRESH-INTERVAL:P3D
CALSCALE:GREGORIAN
BEGIN:VEVENT
DTSTART:20181109T000000Z
DTEND:20181109T020000Z
X-MICROSOFT-CDO-ALLDAYEVENT:FALSE
SUMMARY:Paint to Remember
DESCRIPTION:Please join us in a social gathering for families who have experienced miscarriage\, stillbirth\, and early infant loss.\n\n\n\nWe will provide materials for your family's project. Light refreshments will be provided and additional food and beverages will be available for purchase from the bakery.\n\n\n\nHosted by the Sauk Prairie Healthcare - Fetal Loss Committee. Please RSVP to the Sauk Prairie Healthcare Birth Center at (608) 643-7227 by November 1st. After November 1st\, please call the Birth Center to ask about availablilty.
X-ALT-DESC;FMTTYPE=text/html:Please join us in a social gathering for families who have experienced miscarriage\, stillbirth\, and early infant loss.<br />\n<br />\nWe will provide materials for your family&#39\;s project. Light refreshments will be provided and additional food and beverages will be available for purchase from the bakery.<br />\n<br />\nHosted by the Sauk Prairie Healthcare - Fetal Loss Committee. Please RSVP to the Sauk Prairie Healthcare Birth Center at (608) 643-7227 by November 1st. After November 1st\, please call the Birth Center to ask about availablilty.&nbsp\;
LOCATION:The Mixing Bowl Bakery 525 Water Street Sauk City\, WI 53583
UID:e.1184.21419
SEQUENCE:3
DTSTAMP:20260424T020952Z
URL:http://members.saukprairie.com/events/details/paint-to-remember-21419
END:VEVENT

END:VCALENDAR
