BEGIN:VCALENDAR
VERSION:2.0
PRODID:-//ChamberMaster//Event Calendar 2.0//EN
METHOD:PUBLISH
X-PUBLISHED-TTL:P3D
REFRESH-INTERVAL:P3D
CALSCALE:GREGORIAN
BEGIN:VEVENT
DTSTART:20230427T230000Z
DTEND:20230428T010000Z
X-MICROSOFT-CDO-ALLDAYEVENT:FALSE
SUMMARY:Pajama Party Movie Night : Marcell the Shell with Shoes On
DESCRIPTION:Put on your comfiest pajamas\, grab your blanket and pillow and head on down to the library to get cozy and enjoy a movie. "Marcel\, an adorable one-inch-tall shell and his grandmother Connie seek to find their long-lost community with the help of a documentary filmmaker. Based on the widely popular YouTube series\, Marcel the Shell With Shoes On revives the adorable shell in what is quite possibly the most adorable movie ever." Free\, freshly-popped popcorn available! Please feel free to bring a beverage and/or snacks of your own.
X-ALT-DESC;FMTTYPE=text/html:Put on your comfiest pajamas\, grab your blanket and pillow and head on down to the library to get cozy and enjoy a movie. &quot\;Marcel\, an adorable one-inch-tall shell and his grandmother Connie seek to find their long-lost community with the help of a documentary filmmaker. Based on the widely popular YouTube series\, Marcel the Shell With Shoes On revives the adorable shell in what is quite possibly the most adorable movie ever.&quot\; Free\, freshly-popped popcorn available! Please feel free to bring a beverage and/or snacks of your own.
LOCATION:615 Phillips Blvd. Sauk City\, WI 53583
UID:e.1184.30717
SEQUENCE:3
DTSTAMP:20260420T145831Z
URL:http://members.saukprairie.com/events/details/pajama-party-movie-night-marcell-the-shell-with-shoes-on-30717
END:VEVENT

END:VCALENDAR
