BEGIN:VCALENDAR
VERSION:2.0
PRODID:-//ChamberMaster//Event Calendar 2.0//EN
METHOD:PUBLISH
X-PUBLISHED-TTL:P3D
REFRESH-INTERVAL:P3D
CALSCALE:GREGORIAN
BEGIN:VEVENT
DTSTART:20160611T163000Z
DTEND:20160611T170000Z
X-MICROSOFT-CDO-ALLDAYEVENT:FALSE
SUMMARY:Pape's Fair Valley Inn Fundraiser for Good Neighbor Clinic
DESCRIPTION:Pape's Fair Valley Inn will be hosting a fundraiser for the Good Neighbor Clinic in Prairie du Sac. The event includes a meat raffle starting at 1:30pm\, a band (The Blues Party) from 3 till 6\, 50/50 raffles\, silent auction of goods/services from local businesses\, food and drink specials. Proceeds will go directly to the Good Neighbor Clinic.
X-ALT-DESC;FMTTYPE=text/html:<span style="font-family:times new roman\,serif\;"><span style="font-size:12.0pt\;">Pape&#39\;s Fair Valley Inn will be hosting a fundraiser for the Good Neighbor Clinic in Prairie du Sac. The event includes a meat raffle starting at 1:30pm\, a band (The Blues Party) from 3 till 6\, 50/50 raffles\, silent auction of goods/services from local businesses\, food and drink specials. Proceeds will go directly to the Good Neighbor Clinic.</span></span>&nbsp\;&nbsp\;&nbsp\;&nbsp\;
LOCATION:E9708 State Rd 60 Sauk City\, WI 53583
UID:e.1184.8463
SEQUENCE:3
DTSTAMP:20260426T021901Z
URL:http://members.saukprairie.com/events/details/pape-s-fair-valley-inn-fundraiser-for-good-neighbor-clinic-06-11-2016-8463
END:VEVENT

END:VCALENDAR
