BEGIN:VCALENDAR
VERSION:2.0
PRODID:-//ChamberMaster//Event Calendar 2.0//EN
METHOD:PUBLISH
X-PUBLISHED-TTL:P3D
REFRESH-INTERVAL:P3D
CALSCALE:GREGORIAN
BEGIN:VEVENT
DTSTART;VALUE=DATE:20240207
DTEND;VALUE=DATE:20240208
TRANSP:TRANSPARENT
X-MICROSOFT-CDO-ALLDAYEVENT:TRUE
SUMMARY:Paper Circuits
DESCRIPTION:Paper Circuits @ Ruth Culver Community Library in Prairie du Sac starting @ 4 PM.\n\n\n\nWe'll be providing materials and basic instruction for kids to create their own paper circuits to light up their artwork and or cards! Open to children in grade 5K-5th. Registration is recommended but not required: https://ruthculver.librarycalendar.com/event/paper-circuits
X-ALT-DESC;FMTTYPE=text/html:Paper Circuits @ Ruth Culver Community Library in Prairie du Sac starting @ 4 PM.<br />\n<br />\n<span font-size:="" segoe="" style="color: rgb(5\, 5\, 5)\; font-family: " ui="">We&#39\;ll be providing materials and basic instruction for kids to create their own paper circuits to light up their artwork and or cards! Open to children in grade 5K-5th. Registration is recommended but not required:&nbsp\;</span><a href="https://ruthculver.librarycalendar.com/event/paper-circuits-4458?fbclid=IwAR1kv2jQb8GSry5ZAO1BYn3BXAcE4sj39n-oDhAJIL6YHBf1gDk9m8pk4JU"><strong>https://ruthculver.librarycalendar.com/event/paper-circuits</strong></a><br />\n<br />\n&nbsp\;
LOCATION:Ruth Culver Community Library - Prairie du Sac
UID:e.1184.31515
SEQUENCE:3
DTSTAMP:20260420T003224Z
URL:http://members.saukprairie.com/events/details/paper-circuits-31515
END:VEVENT

END:VCALENDAR
