BEGIN:VCALENDAR
VERSION:2.0
PRODID:-//ChamberMaster//Event Calendar 2.0//EN
METHOD:PUBLISH
X-PUBLISHED-TTL:P3D
REFRESH-INTERVAL:P3D
CALSCALE:GREGORIAN
BEGIN:VEVENT
DTSTART:20230726T180000Z
DTEND:20230726T190000Z
X-MICROSOFT-CDO-ALLDAYEVENT:FALSE
SUMMARY:Paper Lantern Craft
DESCRIPTION:Design and create your own paper lantern craft to take home. For ages 6-12. Registration is required. Call or visit the library to sign up.
X-ALT-DESC;FMTTYPE=text/html:Design and create your own paper lantern craft to take home. For ages 6-12. Registration is required. Call or visit the library to sign up.
LOCATION:615 Phillips Blvd. Sauk City\, WI 53583
UID:e.1184.30880
SEQUENCE:3
DTSTAMP:20260420T102202Z
URL:http://members.saukprairie.com/events/details/paper-lantern-craft-30880
END:VEVENT

END:VCALENDAR
