BEGIN:VCALENDAR
VERSION:2.0
PRODID:-//ChamberMaster//Event Calendar 2.0//EN
METHOD:PUBLISH
X-PUBLISHED-TTL:P3D
REFRESH-INTERVAL:P3D
CALSCALE:GREGORIAN
BEGIN:VEVENT
DTSTART:20230304T180000Z
DTEND:20230304T190000Z
X-MICROSOFT-CDO-ALLDAYEVENT:FALSE
SUMMARY:Paper Marbling 101 with Jo MacDonald 2
DESCRIPTION:Paper marbling is an easy and fun way of creating beautiful artwork. It has a long and rich history spanning thousands of years in many cultures. Pigments are floated on a viscous water-based solution and then transferred to prepared paper. The result is a one of a kind creation of color\, swirls and unique organic patterns. Marbled paper is an art on its own\, but it can also be used as book covers\, note cards\, writing paper\, wrapping paper\, or in numerous other ways.\n\n\n\nIn this session\, participants will learn about how marbling works including a discussion on prep work (which will have already been done)\, supplies (provided) and the tools used (also provided).  Students will ultimately choose the pigments and design and create seven of their own pieces of marbled paper!
X-ALT-DESC;FMTTYPE=text/html:<p>Paper marbling is an easy and fun way of creating beautiful artwork. It has a long and rich history&nbsp\;spanning thousands of years in many cultures.&nbsp\;Pigments are floated on a viscous water-based solution and then transferred to prepared paper.&nbsp\;The result is a one of a kind creation of color\,&nbsp\;swirls and unique organic patterns.&nbsp\;Marbled paper is an art on its own\, but it can also be used&nbsp\;as book covers\, note cards\, writing paper\, wrapping paper\, or in numerous other ways.</p>\n\n<div>\n<div>\n<p>In this session\, participants will learn about how marbling works including a discussion on prep work (which will have already been done)\, supplies (provided) and the tools used (also provided).&nbsp\; Students will ultimately choose the pigments and design and create seven of their&nbsp\;own pieces of marbled paper!</p>\n</div>\n</div>\n
LOCATION:590 Water St\, Prairie du Sac\, WI 53578
UID:e.1184.28217
SEQUENCE:3
DTSTAMP:20260420T164833Z
URL:http://members.saukprairie.com/events/details/paper-marbling-101-with-jo-macdonald-2-28217
END:VEVENT

END:VCALENDAR
