BEGIN:VCALENDAR
VERSION:2.0
PRODID:-//ChamberMaster//Event Calendar 2.0//EN
METHOD:PUBLISH
X-PUBLISHED-TTL:P3D
REFRESH-INTERVAL:P3D
CALSCALE:GREGORIAN
BEGIN:VEVENT
DTSTART:20241121T130000Z
DTEND:20241122T000000Z
X-MICROSOFT-CDO-ALLDAYEVENT:FALSE
SUMMARY:PaperPie Book Fair at Sauk Prairie Healthcare
DESCRIPTION:The Friends of Sauk Prairie Healthcare are hosting a PaperPie Book Fair on Thursday\, November 21\, 2024 from 7:00 a.m. to 6:00 p.m. in the Sauk Prairie Hospital lobby. A portion of the proceeds will benefit the Friends to support special hospital and clinic needs.\n\n\n\nPaperPie will offer a wide selection of engaging and educational books\, featuring Usborne Books\, Kane Miller Books\, and Smartlab Steam toys.\n\n\n\nCan't make it in-person? Shop online at https://paperpie.com/brandpartner/W1728 until Monday\, December 2\, 2024.
X-ALT-DESC;FMTTYPE=text/html:The Friends of Sauk Prairie Healthcare are hosting a PaperPie Book Fair on Thursday\, November 21\, 2024 from 7:00 a.m. to 6:00 p.m. in the Sauk Prairie Hospital lobby. A portion of the proceeds will benefit the Friends to support special hospital and clinic needs.<br />\n<br />\nPaperPie will offer a wide selection of engaging and educational books\, featuring Usborne Books\, Kane Miller Books\, and Smartlab Steam toys.<br />\n<br />\nCan&rsquo\;t make it in-person? Shop online at<strong><a href="https://paperpie.com/brandpartner/W1728/products/category/shop-now"> </a><a href="https://paperpie.com/brandpartner/W1728">https://paperpie.com/brandpartner/W1728</a><a href="https://paperpie.com/brandpartner/W1728/products/category/shop-now"> </a></strong>until Monday\, December 2\, 2024.
LOCATION:
UID:e.1184.34357
SEQUENCE:3
DTSTAMP:20260419T132256Z
URL:http://members.saukprairie.com/events/details/paperpie-book-fair-at-sauk-prairie-healthcare-34357
END:VEVENT

END:VCALENDAR
