BEGIN:VCALENDAR
VERSION:2.0
PRODID:-//ChamberMaster//Event Calendar 2.0//EN
METHOD:PUBLISH
X-PUBLISHED-TTL:P3D
REFRESH-INTERVAL:P3D
CALSCALE:GREGORIAN
BEGIN:VEVENT
DTSTART:20191107T003000Z
DTEND:20191107T013000Z
X-MICROSOFT-CDO-ALLDAYEVENT:FALSE
SUMMARY:Paranormal Wisconsin
DESCRIPTION:Paranormal researcher Chad Lewis returns to the Ruth Culver Community Library Wednesday\, November 6 at 6:30 p.m.  This time he will share Paranormal Wisconsin: Tales of Ghosts\, UFOs\, and Mysterious Creatures. This presentation is an eerie combination of the most bizarre paranormal topics. Chad has combined his strangest cases of alien abductions\, haunted places\, mysterious creatures\, crop circles\, and everything else weird and unusual. This program cover the entire spectrum of WI's supernatural activity.\n\nChad Lewis is a paranormal researcher and author for Unexplained Research.  Chad holds a Master's of Science degree in Applied Psychology from the University of Wisconsin-Stout.  Chad had trekked across the world in search of the paranormal.  From tracking vampires in Transylvania and chasing the Chupacabras in Puerto Rico\, to searching for the elusive monster in Loch Ness\, and pursuing ghosts in Ireland's castles\, Chad brings over 18 years of research experience to his presentations.\n\nThank you to the Friends of the Ruth Culver Community Library for sponsoring this event.
X-ALT-DESC;FMTTYPE=text/html:<p>Paranormal researcher Chad Lewis returns to the Ruth Culver Community Library Wednesday\, November 6 at 6:30 p.m.&nbsp\; This time he will share Paranormal Wisconsin: Tales of Ghosts\, UFOs\, and Mysterious Creatures. This presentation is an eerie combination of the most bizarre paranormal topics. Chad has combined his strangest cases of alien abductions\, haunted places\, mysterious creatures\, crop circles\, and everything else weird and unusual.&nbsp\;This program cover the entire spectrum of WI&#39\;s supernatural activity.</p>\n\n<p>Chad Lewis is a paranormal researcher and author for Unexplained Research.&nbsp\; Chad holds a Master&#39\;s of Science degree in Applied Psychology from the University of Wisconsin-Stout.&nbsp\; Chad had trekked across the world in search of the paranormal.&nbsp\; From tracking vampires in Transylvania and chasing the Chupacabras in Puerto Rico\, to searching for the elusive monster in Loch Ness\, and&nbsp\;pursuing ghosts in Ireland&#39\;s castles\,&nbsp\;Chad&nbsp\;brings over 18 years of research experience to his presentations.</p>\n\n<p>Thank you to the Friends of the Ruth Culver Community Library for sponsoring this event.</p>\n
LOCATION:Ruth Culver Community Library 540 Water Street\, Prairie du Sac
UID:e.1184.21535
SEQUENCE:3
DTSTAMP:20260423T083222Z
URL:http://members.saukprairie.com/events/details/paranormal-wisconsin-21535
END:VEVENT

END:VCALENDAR
