BEGIN:VCALENDAR
VERSION:2.0
PRODID:-//ChamberMaster//Event Calendar 2.0//EN
METHOD:PUBLISH
X-PUBLISHED-TTL:P3D
REFRESH-INTERVAL:P3D
CALSCALE:GREGORIAN
BEGIN:VEVENT
DTSTART:20201002T000000Z
DTEND:20201030T010000Z
X-MICROSOFT-CDO-ALLDAYEVENT:FALSE
SUMMARY:Parent Connect
DESCRIPTION:The Parent Connect is a FREE weekly opportunity for parents and caregivers to talk with each other. Join us via Zoom to learn about resources and gain parenting skills that promote children's growth and learning. Each week an Extension educator will highlight a different skill and lead a conversation about how parents can guide their children.
X-ALT-DESC;FMTTYPE=text/html:The Parent Connect is a FREE weekly opportunity for parents and caregivers to talk with each other. Join us via Zoom to learn about resources and gain parenting skills that promote children&#39\;s growth and learning. Each week an Extension educator will highlight a different skill and lead a conversation about how parents can guide their children.
LOCATION:Virtual (Online via Zoom)
UID:e.1184.26095
SEQUENCE:3
DTSTAMP:20260422T151931Z
URL:http://members.saukprairie.com/events/details/parent-connect-26095
END:VEVENT

END:VCALENDAR
