BEGIN:VCALENDAR
VERSION:2.0
PRODID:-//ChamberMaster//Event Calendar 2.0//EN
METHOD:PUBLISH
X-PUBLISHED-TTL:P3D
REFRESH-INTERVAL:P3D
CALSCALE:GREGORIAN
BEGIN:VEVENT
DTSTART:20231014T210000Z
DTEND:20231015T020000Z
X-MICROSOFT-CDO-ALLDAYEVENT:FALSE
SUMMARY:Parktoberfest
DESCRIPTION:Culver Community Park's Third Annual Parktoberfest! Join us on October 14th from 4-9pm.\n\nBeer Garden 4-9pm\n\nMeat Raffle @ 8:30pm\n\nFood Trucks 4-9pm\n\n- Command Center\n\n- DonutNV\n\n- Melted\n\n- Jacks Fry Shack\n\n- Thailand in a Truck\n\n- Blowin Smoke BBQ\n\n\n\nLive Music 5-8:30pm - Old Soul Society\n\nKids Games 4-7pm\n\n- Bounce Houses\n\n- Pumpkin Decorating\n\n- Mini Hay Bale Maze
X-ALT-DESC;FMTTYPE=text/html:<div class="kvgmc6g5 cxmmr5t8 oygrvhab hcukyx3x c1et5uql" style="overflow-wrap: break-word\; margin: 0px\; font-family: &quot\;Segoe UI Historic&quot\;\, &quot\;Segoe UI&quot\;\, Helvetica\, Arial\, sans-serif\; color: rgb(5\, 5\, 5)\; font-size: 15px\;">\n<div class="xdj266r x11i5rnm xat24cr x1mh8g0r x1vvkbs" style="margin: 0px\; overflow-wrap: break-word\; font-family: system-ui\, -apple-system\, BlinkMacSystemFont\, &quot\;.SFNSText-Regular&quot\;\, sans-serif\; caret-color: rgb(5\, 5\, 5)\; color: rgb(5\, 5\, 5)\; font-size: 15px\;">Culver Community Park&#39\;s Third Annual Parktoberfest! Join us on October 14th from 4-9pm.</div>\n\n<div class="x11i5rnm xat24cr x1mh8g0r x1vvkbs xtlvy1s" style="margin: 0.5em 0px 0px\; overflow-wrap: break-word\; font-family: system-ui\, -apple-system\, BlinkMacSystemFont\, &quot\;.SFNSText-Regular&quot\;\, sans-serif\; caret-color: rgb(5\, 5\, 5)\; color: rgb(5\, 5\, 5)\; font-size: 15px\;">Beer Garden 4-9pm</div>\n\n<div class="x11i5rnm xat24cr x1mh8g0r x1vvkbs xtlvy1s" style="margin: 0.5em 0px 0px\; overflow-wrap: break-word\; font-family: system-ui\, -apple-system\, BlinkMacSystemFont\, &quot\;.SFNSText-Regular&quot\;\, sans-serif\; caret-color: rgb(5\, 5\, 5)\; color: rgb(5\, 5\, 5)\; font-size: 15px\;">Meat Raffle @ 8:30pm</div>\n\n<div class="x11i5rnm xat24cr x1mh8g0r x1vvkbs xtlvy1s" style="margin: 0.5em 0px 0px\; overflow-wrap: break-word\; font-family: system-ui\, -apple-system\, BlinkMacSystemFont\, &quot\;.SFNSText-Regular&quot\;\, sans-serif\; caret-color: rgb(5\, 5\, 5)\; color: rgb(5\, 5\, 5)\; font-size: 15px\;">Food Trucks 4-9pm<br />\n- Command Center<br />\n- DonutNV<br />\n- Melted<br />\n- Jacks Fry Shack<br />\n- Thailand in a Truck<br />\n- Blowin Smoke BBQ<br />\n<br />\nLive Music 5-8:30pm - Old Soul Society</div>\n\n<div class="x11i5rnm xat24cr x1mh8g0r x1vvkbs xtlvy1s" style="margin: 0.5em 0px 0px\; overflow-wrap: break-word\; font-family: system-ui\, -apple-system\, BlinkMacSystemFont\, &quot\;.SFNSText-Regular&quot\;\, sans-serif\; caret-color: rgb(5\, 5\, 5)\; color: rgb(5\, 5\, 5)\; font-size: 15px\;">Kids Games 4-7pm<br />\n- Bounce Houses<br />\n- Pumpkin Decorating<br />\n- Mini Hay Bale Maze</div>\n</div>\n
LOCATION:Culver Community Park
UID:e.1184.31163
SEQUENCE:3
DTSTAMP:20260420T061837Z
URL:http://members.saukprairie.com/events/details/parktoberfest-31163
END:VEVENT

END:VCALENDAR
