BEGIN:VCALENDAR
VERSION:2.0
PRODID:-//ChamberMaster//Event Calendar 2.0//EN
METHOD:PUBLISH
X-PUBLISHED-TTL:P3D
REFRESH-INTERVAL:P3D
CALSCALE:GREGORIAN
BEGIN:VEVENT
DTSTART:20230621T220000Z
DTEND:20230622T010000Z
X-MICROSOFT-CDO-ALLDAYEVENT:FALSE
SUMMARY:Party in the Park
DESCRIPTION:Join the Sauk Prairie Kiwanis Club for their Party in the Park!\n\n\n\nLive Music by:\n\n	Old Soul Duo | 5-6pm\n	Mark Croft Trio | 6-8pm\n\nBring your own beverage\, chairs\, and dancing shoes\n\n\n\nJose's Food Truck - For Purchase\n\n\n\nCheck out the Kiwanis Table and learn about our past and ongoing projects\n\n\n\nSponsored by:\n\nH&R Block: Chris Scheopp\n\nEdward Jones: Peter van der Hagen\n\nGrandview Services: Scott Ballweg
X-ALT-DESC;FMTTYPE=text/html:Join the Sauk Prairie Kiwanis Club for their Party in the Park!<br />\n<br />\nLive Music by:\n<ul>\n	<li>Old Soul Duo | 5-6pm</li>\n	<li>Mark Croft Trio | 6-8pm</li>\n</ul>\nBring your own beverage\, chairs\, and dancing shoes<br />\n<br />\nJose&#39\;s Food Truck - For Purchase<br />\n<br />\nCheck out the Kiwanis Table and learn about our past and ongoing projects<br />\n<br />\nSponsored by:<br />\nH&amp\;R Block: Chris Scheopp<br />\nEdward Jones: Peter van der Hagen<br />\nGrandview Services: Scott Ballweg
LOCATION:Florence Park 1400 Lincoln Ave.\, Prairie du Sac
UID:e.1184.30866
SEQUENCE:3
DTSTAMP:20260420T131858Z
URL:http://members.saukprairie.com/events/details/party-in-the-park-30866
END:VEVENT

END:VCALENDAR
