BEGIN:VCALENDAR
VERSION:2.0
PRODID:-//ChamberMaster//Event Calendar 2.0//EN
METHOD:PUBLISH
X-PUBLISHED-TTL:P3D
REFRESH-INTERVAL:P3D
CALSCALE:GREGORIAN
BEGIN:VEVENT
DTSTART:20191211T150000Z
DTEND:20191211T213000Z
X-MICROSOFT-CDO-ALLDAYEVENT:FALSE
SUMMARY:Pauls Chocolates Sale
DESCRIPTION:Friends of Sauk Prairie Healthcare is hosting a chocolate sale fundraiser with Paul's Chocolates of Sauk City in the Sauk Prairie Hospital lobby. Chocolatier Paul Beloungy (voted 2016 Best of the 'Burbs by Madison Magazine) will be on hand with gift boxes and samples of over a dozen flavors including a selection of creative flavor combinations for the discriminating truffle connoisseur. Proceeds from the sale will benefit Friends of Sauk Prairie Healthcare. The group has dedicated itself to the improvement of our hospital and clinics through service\, education and special projects.
X-ALT-DESC;FMTTYPE=text/html:Friends of Sauk Prairie Healthcare is hosting a chocolate sale fundraiser with Paul&rsquo\;s Chocolates of Sauk City in the Sauk Prairie Hospital lobby. Chocolatier Paul Beloungy (voted 2016 Best of the &#39\;Burbs by Madison Magazine) will be on hand with gift boxes and samples of over a dozen flavors including a selection of creative flavor combinations for the discriminating truffle connoisseur. Proceeds from the sale will benefit Friends of Sauk Prairie Healthcare. The group has dedicated itself to the improvement of our hospital and clinics through service\, education and special projects.
LOCATION:Sauk Prairie Hospital 260 26th Street Prairie du Sac\, WI 53578
UID:e.1184.23638
SEQUENCE:3
DTSTAMP:20260423T070353Z
URL:http://members.saukprairie.com/events/details/pauls-chocolates-sale-23638
END:VEVENT

END:VCALENDAR
