BEGIN:VCALENDAR
VERSION:2.0
PRODID:-//ChamberMaster//Event Calendar 2.0//EN
METHOD:PUBLISH
X-PUBLISHED-TTL:P3D
REFRESH-INTERVAL:P3D
CALSCALE:GREGORIAN
BEGIN:VEVENT
DTSTART:20200215T220000Z
DTEND:20200216T000000Z
X-MICROSOFT-CDO-ALLDAYEVENT:FALSE
SUMMARY:Peace Love & Chocolate
DESCRIPTION:Enjoy a heart opening and restorative Flow and Yin Fusion class with Alyssa Ploessl\, preceded by a mindful meditation and chocolate covered strawberry tasting. When we practice mindfulness\, we are able to connect to the present moment rather than rehashing the past or visualizing the future. When we practice mindful eating\, we use our senses of sight\, touch\, smell\, and finally taste to fully savor and experience what we are consuming. The class will end with a second guided meditation on the subject of self-love\, to create a compassionate space from which to feel without judgement.\n\nPhysical exercise\, such as yoga\, releases endorphins in the brain that trigger positive feelings in the body. Eating chocolate can also have the same effect! In fact\, chocolate consumption not only releases endorphins\, but also serotonin\, oxytocin\, and dopamine. These are the 4 neurotransmitters that create the feeling of happiness! No wonder we enjoy eating chocolate so much!\n\nMembers: $15\n\nNon-Members:$20
X-ALT-DESC;FMTTYPE=text/html:<div><span style="font-size:14px"><span style="font-family:arial\,helvetica\,sans-serif">Enjoy a heart opening and restorative Flow and Yin Fusion class with Alyssa Ploessl\, preceded by a mindful meditation and chocolate covered strawberry tasting. When we practice mindfulness\, we are able to connect to the present moment rather than rehashing the past or visualizing the future. When we practice mindful eating\, we use our senses of sight\, touch\, smell\, and finally taste to fully savor and experience what we are consuming. The class will end with a second guided meditation on the subject of self-love\, to create a compassionate space from which to feel without judgement.</span></span></div>\n\n<p><span style="font-size:14px"><span style="font-family:arial\,helvetica\,sans-serif">Physical exercise\, such as yoga\, releases endorphins in the brain that trigger positive feelings in the body. Eating chocolate can also have the same effect! In fact\, chocolate consumption not only releases endorphins\, but also serotonin\, oxytocin\, and dopamine. These are the 4 neurotransmitters that create the feeling of happiness! No wonder we enjoy eating chocolate so much!</span></span></p>\n\n<p><span style="font-size:14px"><span style="font-family:arial\,helvetica\,sans-serif">Members: $15<br />\nNon-Members:$20</span></span></p>\n
LOCATION:
UID:e.1184.24032
SEQUENCE:3
DTSTAMP:20260423T041202Z
URL:http://members.saukprairie.com/events/details/peace-love-choclate-24032
END:VEVENT

END:VCALENDAR
