BEGIN:VCALENDAR
VERSION:2.0
PRODID:-//ChamberMaster//Event Calendar 2.0//EN
METHOD:PUBLISH
X-PUBLISHED-TTL:P3D
REFRESH-INTERVAL:P3D
CALSCALE:GREGORIAN
BEGIN:VEVENT
DTSTART;VALUE=DATE:20240214
DTEND;VALUE=DATE:20240215
TRANSP:TRANSPARENT
X-MICROSOFT-CDO-ALLDAYEVENT:TRUE
SUMMARY:Perler Bead Crafting
DESCRIPTION:Perler Bead Crafting @ Ruth Culver Community Library in Prairie du Sac starting at 2:30pm\n\n\n\nJoin us as we make perler bead creations using patterns\, or design your own original piece! Perler beads are plastic fuse beads that you place on a grid and melt together. For Grades K-5. No registration is required unless you'd like an email reminder.
X-ALT-DESC;FMTTYPE=text/html:Perler Bead Crafting @ Ruth Culver Community Library in Prairie du Sac starting at 2:30pm<br />\n<br />\n<span font-size:="" segoe="" style="color: rgb(5\, 5\, 5)\; font-family: " ui="">Join us as we make perler bead creations using patterns\, or design your own original piece! Perler beads are plastic fuse beads that you place on a grid and melt together. For Grades K-5. No registration is required unless you&#39\;d like an email reminder.</span>
LOCATION:Ruth Culver Community Library - Prairie du Sac
UID:e.1184.31558
SEQUENCE:3
DTSTAMP:20260420T020111Z
URL:http://members.saukprairie.com/events/details/perler-bead-crafting-31558
END:VEVENT

END:VCALENDAR
