BEGIN:VCALENDAR
VERSION:2.0
PRODID:-//ChamberMaster//Event Calendar 2.0//EN
METHOD:PUBLISH
X-PUBLISHED-TTL:P3D
REFRESH-INTERVAL:P3D
CALSCALE:GREGORIAN
BEGIN:VEVENT
DTSTART:20190626T224500Z
DTEND:20190627T010000Z
X-MICROSOFT-CDO-ALLDAYEVENT:FALSE
SUMMARY:Personalized Tumblers for Adults
DESCRIPTION:Learn how to personalize your own acrylic tumbler using vinyl at the Ruth Culver Community Library Wednesday\, June 26. Due to limited space\, two sessions will be held\, 5:45 p.m. OR 7:00 p.m.  Registration is required.  This event is open to ages 18 and older. All supplies will be provided. Contact Meagan at 643-8318 with questions. Thank you to the Friends of the Ruth Culver Community Library for sponsoring this event.
X-ALT-DESC;FMTTYPE=text/html:Learn how to personalize your own acrylic tumbler using vinyl at the Ruth Culver Community Library Wednesday\, June 26. Due to limited space\, two sessions will be held\, 5:45 p.m. OR 7:00 p.m.&nbsp\;<strong> Registration is required.</strong>&nbsp\; This event is open to ages 18 and older. All supplies will be provided. Contact Meagan at 643-8318 with questions. Thank you to the Friends of the Ruth Culver Community Library for sponsoring this event.
LOCATION:Ruth Culver Community Library 540 Water Street\, Prairie du Sac
UID:e.1184.22340
SEQUENCE:3
DTSTAMP:20260423T153510Z
URL:http://members.saukprairie.com/events/details/personalized-tumblers-for-adults-22340
END:VEVENT

END:VCALENDAR
