BEGIN:VCALENDAR
VERSION:2.0
PRODID:-//ChamberMaster//Event Calendar 2.0//EN
METHOD:PUBLISH
X-PUBLISHED-TTL:P3D
REFRESH-INTERVAL:P3D
CALSCALE:GREGORIAN
BEGIN:VEVENT
DTSTART:20200718T123000Z
DTEND:20200718T143000Z
X-MICROSOFT-CDO-ALLDAYEVENT:FALSE
SUMMARY:PFY Bootcamp & Waterfront Flow
DESCRIPTION:E12653 Wiegands Bay Merrimac\n\n7:30-8:15 Bootcamp Workout with Jamie & Tammy\n\n8:15-8:30 Break: socialize\, grab a snack\, or jump in the lake.\n\n8:30-9:30 Vinyasa Flow with Mike\n\n \n\nLet's change it up! Join Jamie and Tammy for a 45-minute outdoor bootcamp style workout. We will provide the opportunity to do something different\, push yourself\, sweat and have fun doing it. Our bootcamp is geared for all fitness levels. This will be followed by a lakefront Flow class with Mike. Allowing time to breathe in the fresh air\, feel the sun\, and hear the sounds of the water nearby while strengthening and stretching your body and mind.\n\n \n\nWhat to bring? Shoes for Bootcamp\, a mat for Flow\, a water bottle\, (we will have water for you to refill as needed)\, sunscreen and bug spray if you desire.\n\n\n\nPre-registration required. Sign up through our website or by calling the studio.
X-ALT-DESC;FMTTYPE=text/html:<div><strong>E12653 Wiegands Bay Merrimac</strong><br />\n7:30-8:15 Bootcamp Workout with Jamie &amp\; Tammy<br />\n8:15-8:30 Break: socialize\, grab a snack\, or jump in the lake.<br />\n8:30-9:30 Vinyasa Flow with Mike</div>\n\n<div>&nbsp\;</div>\n\n<div>Let&rsquo\;s change it up! Join Jamie and Tammy for a 45-minute outdoor bootcamp style workout. We will provide the opportunity to do something different\, push yourself\, sweat and have fun doing it. Our bootcamp is geared for all fitness levels. This will be followed by a lakefront Flow class with Mike. Allowing time to breathe in the fresh air\, feel the sun\, and hear the sounds of the water nearby while strengthening and stretching your body and mind.</div>\n\n<div>&nbsp\;</div>\n\n<div>What to bring? Shoes for Bootcamp\, a mat for Flow\, a water bottle\, (we will have water for you to refill as needed)\, sunscreen and bug spray if you desire.<br />\n<br />\nPre-registration required. Sign up through our website or by calling the studio.</div>\n\n<div>&nbsp\;</div>\n\n<div>&nbsp\;</div>\n
LOCATION:E12653 Wiegands Bay Merrimac
UID:e.1184.26063
SEQUENCE:3
DTSTAMP:20260422T194635Z
URL:http://members.saukprairie.com/events/details/pfy-bootcamp-waterfront-flow-26063
END:VEVENT

END:VCALENDAR
