BEGIN:VCALENDAR
VERSION:2.0
PRODID:-//ChamberMaster//Event Calendar 2.0//EN
METHOD:PUBLISH
X-PUBLISHED-TTL:P3D
REFRESH-INTERVAL:P3D
CALSCALE:GREGORIAN
BEGIN:VEVENT
DTSTART:20200311T180000Z
DTEND:20200311T190000Z
X-MICROSOFT-CDO-ALLDAYEVENT:FALSE
SUMMARY:Pine Glen Community Bingo
DESCRIPTION:Community Bingo- open to the public $3.00. All money collected is paid back out in prize money. Refreshments provided.
X-ALT-DESC;FMTTYPE=text/html:Community Bingo- open to the public $3.00. All money collected is paid back out in prize money. Refreshments provided.
LOCATION:Pine Glen Senior Apartments 930 Prairie Du Sac Prairie Du Sac\, Wi 53578
UID:e.1184.24104
SEQUENCE:3
DTSTAMP:20260423T025230Z
URL:http://members.saukprairie.com/events/details/pine-glen-community-bingo-24104
END:VEVENT

END:VCALENDAR
