BEGIN:VCALENDAR
VERSION:2.0
PRODID:-//ChamberMaster//Event Calendar 2.0//EN
METHOD:PUBLISH
X-PUBLISHED-TTL:P3D
REFRESH-INTERVAL:P3D
CALSCALE:GREGORIAN
BEGIN:VEVENT
DTSTART:20200313T150000Z
DTEND:20200314T010000Z
X-MICROSOFT-CDO-ALLDAYEVENT:FALSE
SUMMARY:Pizza with a Purpose
DESCRIPTION:Support the new library in Sauk City by ordering pizza from Papa Murphy's! Papa Murphy's will donate $3 to the Friends of the Library for every large or family size pizza sold. The proceeds will support the new library opening Summer 2020!
X-ALT-DESC;FMTTYPE=text/html:Support the new library in Sauk City by ordering pizza from Papa Murphy&rsquo\;s! Papa Murphy&#39\;s will donate $3 to the Friends of the Library for every large or family size pizza sold. The proceeds will support the new library opening Summer 2020!&nbsp\;
LOCATION:Papa Murphy's 1430 Prairie Street Prairie du Sac\, WI 53578
UID:e.1184.24102
SEQUENCE:3
DTSTAMP:20260423T024956Z
URL:http://members.saukprairie.com/events/details/pizza-with-a-purpose-24102
END:VEVENT

END:VCALENDAR
