BEGIN:VCALENDAR
VERSION:2.0
PRODID:-//ChamberMaster//Event Calendar 2.0//EN
METHOD:PUBLISH
X-PUBLISHED-TTL:P3D
REFRESH-INTERVAL:P3D
CALSCALE:GREGORIAN
BEGIN:VEVENT
DTSTART:20161127T170000Z
DTEND:20161127T210000Z
X-MICROSOFT-CDO-ALLDAYEVENT:FALSE
SUMMARY:Plain Holiday Vendor and Craft Event
DESCRIPTION:Holiday Vendor and Craft Event benefiting a local Food Pantry. Raffles/Bake Sale. Perfect place to start shopping for gifts. Everyone who brings a non-perishable item will receive one FREE raffle ticket.
X-ALT-DESC;FMTTYPE=text/html:Holiday Vendor and Craft Event benefiting a local Food Pantry. Raffles/Bake Sale. Perfect place to start shopping for gifts. Everyone who brings a non-perishable item will receive one FREE raffle ticket.
LOCATION:Plain Legion\, 1 American Legion Drive\, Plain\, WI
UID:e.1184.9470
SEQUENCE:3
DTSTAMP:20260425T160925Z
URL:http://members.saukprairie.com/events/details/plain-holiday-vendor-and-craft-event-9470
END:VEVENT

END:VCALENDAR
