BEGIN:VCALENDAR
VERSION:2.0
PRODID:-//ChamberMaster//Event Calendar 2.0//EN
METHOD:PUBLISH
X-PUBLISHED-TTL:P3D
REFRESH-INTERVAL:P3D
CALSCALE:GREGORIAN
BEGIN:VEVENT
DTSTART:20230410T180000Z
DTEND:20230410T190000Z
X-MICROSOFT-CDO-ALLDAYEVENT:FALSE
SUMMARY:Plastic Bottle Planters
DESCRIPTION:Recycle plastic bottles into planters for Earth Day. Turn bottles into fun animals or characters with paint. Then add soil and seeds to start a small\, fun garden. Sign-up required. For kids ages 8 and up.
X-ALT-DESC;FMTTYPE=text/html:<br />\nRecycle plastic bottles into planters for Earth Day. Turn bottles into fun animals or characters with paint. Then add soil and seeds to start a small\, fun garden. Sign-up required. For kids ages 8 and up.
LOCATION:615 Phillips Blvd. Sauk City\, WI 53583
UID:e.1184.30679
SEQUENCE:3
DTSTAMP:20260420T142617Z
URL:http://members.saukprairie.com/events/details/plastic-bottle-planters-30679
END:VEVENT

END:VCALENDAR
