BEGIN:VCALENDAR
VERSION:2.0
PRODID:-//ChamberMaster//Event Calendar 2.0//EN
METHOD:PUBLISH
X-PUBLISHED-TTL:P3D
REFRESH-INTERVAL:P3D
CALSCALE:GREGORIAN
BEGIN:VEVENT
DTSTART:20190430T210000Z
DTEND:20190430T220000Z
X-MICROSOFT-CDO-ALLDAYEVENT:FALSE
SUMMARY:Poet Laureate Margaret Rozga - "Poetry\, Let's Go Out and Play"
DESCRIPTION:Current Wisconsin Poet Laureate Margaret Rozga will talk about how her life of writing and her life of activism inform each other. She'll also read selected recent poems and invite questions from the audience.
X-ALT-DESC;FMTTYPE=text/html:<div>\n<div>\n<div>\n<div>\n<div>\n<div>\n<div>\n<div>\n<div>\n<div>\n<div>\n<p>Current Wisconsin Poet Laureate Margaret Rozga will talk about how her life of writing and her life of activism inform each other. She&#39\;ll also read selected recent poems and invite questions from the audience.</p>\n</div>\n</div>\n</div>\n</div>\n\n<div>&nbsp\;</div>\n</div>\n</div>\n</div>\n</div>\n</div>\n</div>\n</div>\n\n<div>\n<div>\n<div>\n<div>\n<div>\n<div>\n<div>\n<div>\n<div>\n<div>\n<div>\n<div>&nbsp\;</div>\n</div>\n</div>\n</div>\n</div>\n</div>\n</div>\n</div>\n</div>\n</div>\n</div>\n</div>\n
LOCATION:Rodems Room A-218\, Umhoefer Classroom Building\, UW-Platteville | Baraboo/Sauk County Campus
UID:e.1184.22243
SEQUENCE:3
DTSTAMP:20260423T190056Z
URL:http://members.saukprairie.com/events/details/poet-laureate-margaret-rozga-poetry-let-s-go-out-and-play-22243
END:VEVENT

END:VCALENDAR
