BEGIN:VCALENDAR
VERSION:2.0
PRODID:-//ChamberMaster//Event Calendar 2.0//EN
METHOD:PUBLISH
X-PUBLISHED-TTL:P3D
REFRESH-INTERVAL:P3D
CALSCALE:GREGORIAN
BEGIN:VEVENT
DTSTART:20160720T220000Z
DTEND:20160720T230000Z
X-MICROSOFT-CDO-ALLDAYEVENT:FALSE
SUMMARY:Pokemon Go Meetup
DESCRIPTION:Do you want to be the very best? Like no one ever was? Is catching them your real test? Is training Pokemon your cause?\n\n\n\nOnly you can help us bridge the real and virtual worlds. Join us on the lawn near the River's Edge Mall as we lure all the Pokemon to this gym and Pokestops hotspot. Whether you're just getting started on your journey or you're ready to become the new gym leader\, come and meet with other trainers.\n\n\n\nFree water and wifi will be provided.\n\n\n\nCan you catch 'em all?
X-ALT-DESC;FMTTYPE=text/html:Do you want to be the very best? Like no one ever was? Is catching them your real test? Is training Pokemon your cause?<br />\n<br />\nOnly you can help us bridge the real and virtual worlds. Join us on the lawn near the River&#39\;s Edge Mall as we lure all the Pokemon to this gym and Pokestops hotspot. Whether you&#39\;re just getting started on your journey or you&#39\;re ready to become the new gym leader\, come and meet with other trainers.<br />\n<br />\nFree water and wifi will be provided.<br />\n<br />\nCan you catch &#39\;em all?
LOCATION:612 Water St. Sauk City\, WI (on lawn south of Ace)
UID:e.1184.8831
SEQUENCE:3
DTSTAMP:20260425T224455Z
URL:http://members.saukprairie.com/events/details/pokemon-go-meetup-07-20-2016-8831
END:VEVENT

END:VCALENDAR
