BEGIN:VCALENDAR
VERSION:2.0
PRODID:-//ChamberMaster//Event Calendar 2.0//EN
METHOD:PUBLISH
X-PUBLISHED-TTL:P3D
REFRESH-INTERVAL:P3D
CALSCALE:GREGORIAN
BEGIN:VEVENT
DTSTART;VALUE=DATE:20240131
DTEND;VALUE=DATE:20240201
TRANSP:TRANSPARENT
X-MICROSOFT-CDO-ALLDAYEVENT:TRUE
SUMMARY:Pokémon Club
DESCRIPTION:Pok mon Club @ Ruth Culver Community Library in Prairie du Sac starting @ 4PM\n\n\n\nBring your Pok mon cards and/or your game devices to the Ruth Culver Community Library and meet with other Pok mon enthusiasts to battle\, trade\, and play. For Pok mon Go players\, we will have a lure on one of our local Pok stops. No registration required unless you want to receive an email reminder.
X-ALT-DESC;FMTTYPE=text/html:Pok&eacute\;mon Club @ Ruth Culver Community Library in Prairie du Sac starting @ 4PM<br />\n<br />\nBring your Pok&eacute\;mon cards and/or your game devices to the Ruth Culver Community Library and meet with other Pok&eacute\;mon enthusiasts to battle\, trade\, and play. For Pok&eacute\;mon Go players\, we will have a lure on one of our local Pok&eacute\;stops. No registration required unless you want to receive an email reminder.
LOCATION:Ruth Culver Community Library - Prairie du Sac
UID:e.1184.29893
SEQUENCE:3
DTSTAMP:20260420T020025Z
URL:http://members.saukprairie.com/events/details/pok&#233;mon-club-29893
END:VEVENT

END:VCALENDAR
