BEGIN:VCALENDAR
VERSION:2.0
PRODID:-//ChamberMaster//Event Calendar 2.0//EN
METHOD:PUBLISH
X-PUBLISHED-TTL:P3D
REFRESH-INTERVAL:P3D
CALSCALE:GREGORIAN
BEGIN:VEVENT
DTSTART;VALUE=DATE:20171116
DTEND;VALUE=DATE:20171117
TRANSP:TRANSPARENT
X-MICROSOFT-CDO-ALLDAYEVENT:TRUE
SUMMARY:Polymer Clay Day at River Arts\, Inc.!
DESCRIPTION:Join us as we celebrate the magical possibilities of polymer clay with guest artist Layl McDill! Layl is our guest artist visiting from Minneapolis for the day\, and a wizard when it comes to polymer clay. She makes sculptures using the technique called 'millefiore'\, or canework. She sells her work at art festivals and galleries\, and teaches classes at her home studio of Clay Squared as well as around the country. You can view more of her work here.\n\nLayl will be teaching two workshops on this day\, and both are open to youth and adults. She'll also have some of her whimsical\, mysterious\, and fantastic original work for sale in the gallery for one day only! She'll be around to answer questions and talk about the work with students and customers. We hope you can join us for this can't-miss day celebrating a unique art form!
X-ALT-DESC;FMTTYPE=text/html:<p>Join us as we celebrate the magical possibilities of polymer clay with guest artist Layl McDill! Layl is our guest artist visiting from Minneapolis for the day\, and a wizard when it comes to polymer clay. She makes sculptures using the technique called &lsquo\;millefiore&rsquo\;\, or canework. She sells her work at art festivals and galleries\, and teaches classes at her home studio of Clay Squared as well as around the country. You can view more of her work&nbsp\;<a href="http://laylmcdill.com/" style="margin: 0px\; padding: 0px\; color: rgb(193\, 193\, 204)\;">here</a>.</p>\n\n<p>Layl will be teaching two workshops on this day\, and both are open to youth and adults. She&rsquo\;ll also have some of her whimsical\, mysterious\, and fantastic original work for sale in the gallery for one day only! She&rsquo\;ll be around to answer questions and talk about the work with students and customers. We hope you can join us for this can&rsquo\;t-miss day celebrating a unique art form!</p>\n
LOCATION:River Arts on Water Studio 590 Water St Prairie du Sac\, WI 53578
UID:e.1184.10271
SEQUENCE:3
DTSTAMP:20260424T205356Z
URL:http://members.saukprairie.com/events/details/polymer-clay-day-at-river-arts-inc-10271
END:VEVENT

END:VCALENDAR
