BEGIN:VCALENDAR
VERSION:2.0
PRODID:-//ChamberMaster//Event Calendar 2.0//EN
METHOD:PUBLISH
X-PUBLISHED-TTL:P3D
REFRESH-INTERVAL:P3D
CALSCALE:GREGORIAN
BEGIN:VEVENT
DTSTART:20230519T210000Z
DTEND:20230519T230000Z
X-MICROSOFT-CDO-ALLDAYEVENT:FALSE
SUMMARY:Portrait Painting Demonstration with Philip Salamone
DESCRIPTION:Join instructor Philip Salamone of Atwood Atelier as he sets up in the studio for a live portrait demonstration. Philip will have a live model on site\, and students can observe as he walks through the fundamentals of capturing the human figure. This is a demonstration\, meaning Philip will discuss his process as he paints\, though students will not be following along making their own paintings. However\, anyone in attendance is welcome to bring a small sketchbook to sketch or take notes. Philip will answer live questions during the event and point out key processes.\n\nBeginners are welcome! This demonstration is great for emerging artists wanting to explore drawing\, or established artists wanting to take their portraiture to the next step.\n\nThere are no required materials to bring along\, though you may bring a sketchbook and pencils/charcoal if you'd like to sketch along with Philip.
X-ALT-DESC;FMTTYPE=text/html:<p>Join instructor Philip Salamone of Atwood Atelier as he sets up in the studio for a live portrait demonstration. Philip will have a live model on site\, and students can observe as he walks through the fundamentals of capturing the human figure. This is a demonstration\, meaning&nbsp\;Philip will discuss his process as he paints\, though students will not be following along making their own paintings. However\, anyone in attendance is welcome to bring a small sketchbook&nbsp\;to sketch or take notes. Philip will answer live questions during the event and point out key processes.</p>\n\n<p>Beginners are welcome! This&nbsp\;demonstration&nbsp\;is great for emerging artists wanting to explore drawing\, or established artists wanting to take their portraiture to the next step.</p>\n\n<p>There are no required materials to bring along\, though you may bring a sketchbook and pencils/charcoal if you&rsquo\;d like to sketch along with Philip.</p>\n
LOCATION:590 Water St\, Prairie du Sac\, 53578
UID:e.1184.28240
SEQUENCE:3
DTSTAMP:20260420T132827Z
URL:http://members.saukprairie.com/events/details/portrait-painting-demonstration-with-philip-salamone-28240
END:VEVENT

END:VCALENDAR
