BEGIN:VCALENDAR
VERSION:2.0
PRODID:-//ChamberMaster//Event Calendar 2.0//EN
METHOD:PUBLISH
X-PUBLISHED-TTL:P3D
REFRESH-INTERVAL:P3D
CALSCALE:GREGORIAN
BEGIN:VEVENT
DTSTART:20190613T233000Z
DTEND:20190614T003000Z
X-MICROSOFT-CDO-ALLDAYEVENT:FALSE
SUMMARY:Post-It Wars
DESCRIPTION:Challenge your friends to an epic post-it war in the library! Create and show off your favorite space characters from Star Wars\, Star Trek\, and more. For grades 6-12.
X-ALT-DESC;FMTTYPE=text/html:Challenge your friends to an epic post-it war in the library! Create and show off your favorite space characters from Star Wars\, Star Trek\, and more. For grades 6-12.
LOCATION:515 Water Street Sauk City\, WI 53583
UID:e.1184.22352
SEQUENCE:3
DTSTAMP:20260423T153227Z
URL:http://members.saukprairie.com/events/details/post-it-wars-22352
END:VEVENT

END:VCALENDAR
