BEGIN:VCALENDAR
VERSION:2.0
PRODID:-//ChamberMaster//Event Calendar 2.0//EN
METHOD:PUBLISH
X-PUBLISHED-TTL:P3D
REFRESH-INTERVAL:P3D
CALSCALE:GREGORIAN
BEGIN:VEVENT
DTSTART:20210421T210000Z
DTEND:20210422T000000Z
X-MICROSOFT-CDO-ALLDAYEVENT:FALSE
SUMMARY:POSTPONED - Business & "Disc Golf Fun" After Five
DESCRIPTION:Join us on April 21st from 4-7pm at Marion Park for a Business & "Disc Golf Fun" After Five. You will have the chance to meet some local businesses and learn more about our Sauk County Disc Golf Challenge Tournament!
X-ALT-DESC;FMTTYPE=text/html:Join us on April 21st from 4-7pm at Marion Park for a Business &amp\; &quot\;Disc Golf Fun&quot\; After Five. You will have the chance to meet some local businesses and learn more about our Sauk County Disc Golf Challenge Tournament!
LOCATION:Marion Park
UID:e.1184.26426
SEQUENCE:3
DTSTAMP:20260422T063714Z
URL:http://members.saukprairie.com/events/details/postponed-business-disc-golf-fun-after-five-26426
END:VEVENT

END:VCALENDAR
